BEGIN:VCALENDAR
VERSION:2.0
PRODID:-//Columbia River Sailing Association - ECPv6.15.20//NONSGML v1.0//EN
CALSCALE:GREGORIAN
METHOD:PUBLISH
X-ORIGINAL-URL:https://columbiariversailing.org
X-WR-CALDESC:Events for Columbia River Sailing Association
REFRESH-INTERVAL;VALUE=DURATION:PT1H
X-Robots-Tag:noindex
X-PUBLISHED-TTL:PT1H
BEGIN:VTIMEZONE
TZID:America/Los_Angeles
BEGIN:DAYLIGHT
TZOFFSETFROM:-0800
TZOFFSETTO:-0700
TZNAME:PDT
DTSTART:20250309T100000
END:DAYLIGHT
BEGIN:STANDARD
TZOFFSETFROM:-0700
TZOFFSETTO:-0800
TZNAME:PST
DTSTART:20251102T090000
END:STANDARD
BEGIN:DAYLIGHT
TZOFFSETFROM:-0800
TZOFFSETTO:-0700
TZNAME:PDT
DTSTART:20260308T100000
END:DAYLIGHT
BEGIN:STANDARD
TZOFFSETFROM:-0700
TZOFFSETTO:-0800
TZNAME:PST
DTSTART:20261101T090000
END:STANDARD
BEGIN:DAYLIGHT
TZOFFSETFROM:-0800
TZOFFSETTO:-0700
TZNAME:PDT
DTSTART:20270314T100000
END:DAYLIGHT
BEGIN:STANDARD
TZOFFSETFROM:-0700
TZOFFSETTO:-0800
TZNAME:PST
DTSTART:20271107T090000
END:STANDARD
END:VTIMEZONE
BEGIN:VEVENT
DTSTART;VALUE=DATE:20260515
DTEND;VALUE=DATE:20260518
DTSTAMP:20260423T063155
CREATED:20250930T001629Z
LAST-MODIFIED:20260421T195913Z
UID:8367-1778803200-1779062399@columbiariversailing.org
SUMMARY:Coon Island - East Dock
DESCRIPTION:It’s “Love Me\, Tender Time”\n\nTurns out the King didn’t just rock the stage—he also rocked the boat… mostly because he forgot to check the wind and kept yelling\, “It’s now or never!” while drifting in circles. \n\nBut forget Elvis\, because our cruise in May is all about dinghies and tenders.  Tune up your tender and bring it with you to Coon Island.  There will be a safety check\, dinghy tips\, and a regatta circumnavigating the island. \n\nFriday Evening at 5pm; It’s happy hour and appetizers. \n\nSaturday; The soon to be infamous tender dingy dash around the island shall start when the our hosts tell us “it’s now or never”. \nPlan on a potluck dinner at 6pm. \n\nSunday Morning: As always\, it’s the CRSA breakfast potluck at 930. \n\nRSVP Here \nHosted by Rex and Leslie Hanson
URL:https://columbiariversailing.org/event/coon-island-east-dock-7/
LOCATION:Coon Island – East Dock 45°46’04.0″N 122°48’58.1″W\, (Copy Lat/Long to Google Maps or Earth)\, OR\, United States
END:VEVENT
BEGIN:VEVENT
DTSTART;VALUE=DATE:20260605
DTEND;VALUE=DATE:20260608
DTSTAMP:20260423T063155
CREATED:20260301T165252Z
LAST-MODIFIED:20260301T165252Z
UID:8749-1780617600-1780876799@columbiariversailing.org
SUMMARY:40th Annual Columbia River Ladies Cruise
DESCRIPTION:To All Ladies of Columbia River Sailing Association\, \nWe want to make sure you all know about the upcoming annual Columbia River Ladies Cruise. This cruise is for women boaters of all clubs or no clubs\, with a boat or without a boat (many women with boats are happy to have crew for this cruise). \n  \n 
URL:https://columbiariversailing.org/event/40th-annual-columbia-river-ladies-cruise/
LOCATION:Bartlett Landing\, Government Island 45°34’40.3″N 122°29’03.6″W\, (copy Lat/Long to Google Maps or Earth)\, OR
END:VEVENT
BEGIN:VEVENT
DTSTART;VALUE=DATE:20260612
DTEND;VALUE=DATE:20260615
DTSTAMP:20260423T063155
CREATED:20250930T001859Z
LAST-MODIFIED:20260413T211441Z
UID:8369-1781222400-1781481599@columbiariversailing.org
SUMMARY:St Helens City Dock
DESCRIPTION:Details TBD. We are in search of a host for this cruise. \nCome a night early for “13 Nights On The River” concert series.
URL:https://columbiariversailing.org/event/st-helens-city-dock-7/
LOCATION:St. Helen’s Oregon – City Dock\, 275 Strand Street\, St Helens\, OR\, 97051\, United States
END:VEVENT
BEGIN:VEVENT
DTSTART;VALUE=DATE:20260717
DTEND;VALUE=DATE:20260720
DTSTAMP:20260423T063155
CREATED:20250930T002154Z
LAST-MODIFIED:20260403T145115Z
UID:8371-1784246400-1784505599@columbiariversailing.org
SUMMARY:Bartlett Landing at Government Island
DESCRIPTION:Details TBD. \nRSVP HERE (Not yet-You are too eager!)\nHosted by John and Angie Cipolla. \n 
URL:https://columbiariversailing.org/event/bartlett-landing-at-government-island-3/
LOCATION:Bartlett Landing\, Government Island 45°34’40.3″N 122°29’03.6″W\, (copy Lat/Long to Google Maps or Earth)\, OR
END:VEVENT
BEGIN:VEVENT
DTSTART;VALUE=DATE:20260814
DTEND;VALUE=DATE:20260817
DTSTAMP:20260423T063155
CREATED:20250930T002435Z
LAST-MODIFIED:20260403T145410Z
UID:8373-1786665600-1786924799@columbiariversailing.org
SUMMARY:Annual Rendezvous - Sand Island
DESCRIPTION:Details TBD \nHelp the planners\, RSVP EARLY HERE. \nLooking for Tee shirts for the Rendezvous? Click HERE. \nSailing Chef contest rules. Click HERE. \n 
URL:https://columbiariversailing.org/event/annual-rendezvous-sand-island-4/
LOCATION:Sand Island\, St. Helens\, Oregon 45°52’06.8″N 122°47’40.1″W\, (copy Lat/Long to Google Maps or Earth)
END:VEVENT
BEGIN:VEVENT
DTSTART;VALUE=DATE:20260918
DTEND;VALUE=DATE:20260921
DTSTAMP:20260423T063155
CREATED:20250930T002636Z
LAST-MODIFIED:20260403T145234Z
UID:8375-1789689600-1789948799@columbiariversailing.org
SUMMARY:Kalama Marina
DESCRIPTION:Details TBD \nRSVP HERE (Not yet) \nHosted by Tim Lesher.
URL:https://columbiariversailing.org/event/kalama-marina-2/
LOCATION:Port of Kalama Marina\, 110 West Marine Drive\, Kalama\, WA\, 98625\, United States
END:VEVENT
BEGIN:VEVENT
DTSTART;VALUE=DATE:20260920
DTEND;VALUE=DATE:20260927
DTSTAMP:20260423T063155
CREATED:20260314T162933Z
LAST-MODIFIED:20260314T163223Z
UID:8836-1789862400-1790467199@columbiariversailing.org
SUMMARY:Downriver Cruise - Under Consideration
DESCRIPTION:It’s been a few years since the last downriver cruise. \nWe are considering a week long cruise departing at the end of the Kalama Cruise. Departing Sunday with the following stops: \n\nCathlamet – Sun\, Sept 20\nAstoria – Mon\, Sept 21\nIlwaco – Tues\, Sept 22 (maybe a day trip across the Columbia River bar)\nTongue Point at anchor – Weds\, Sept 23\nWestport\, Oregon (new OSMB dock) – Thurs\, Sept 24\nWalker Island / Longview area- Fri\, Sept 25\nSt Helens -Sand Island\, Sat\, Sept 26
URL:https://columbiariversailing.org/event/downriver-cruise-under-consideration/
END:VEVENT
BEGIN:VEVENT
DTSTART;VALUE=DATE:20261016
DTEND;VALUE=DATE:20261019
DTSTAMP:20260423T063155
CREATED:20250930T002828Z
LAST-MODIFIED:20260403T145527Z
UID:8377-1792108800-1792367999@columbiariversailing.org
SUMMARY:Coon Island - East Dock
DESCRIPTION:It’s a spooky time of the year. \n \nDetails to emerge from the fog… \nRSVP HERE\nHosted by Josh Senner and Tammie Appel \n 
URL:https://columbiariversailing.org/event/coon-island-east-dock-8/
LOCATION:Coon Island – East Dock 45°46’04.0″N 122°48’58.1″W\, (Copy Lat/Long to Google Maps or Earth)\, OR\, United States
END:VEVENT
END:VCALENDAR